BEGIN:VCALENDAR
VERSION:2.0
PRODID:-//Ubicació racional de les energies renovables - ECPv6.10.1.1//NONSGML v1.0//EN
CALSCALE:GREGORIAN
METHOD:PUBLISH
X-ORIGINAL-URL:https://ubiracional.org
X-WR-CALDESC:Eventos para Ubicació racional de les energies renovables
REFRESH-INTERVAL;VALUE=DURATION:PT1H
X-Robots-Tag:noindex
X-PUBLISHED-TTL:PT1H
BEGIN:VTIMEZONE
TZID:UTC
BEGIN:STANDARD
TZOFFSETFROM:+0000
TZOFFSETTO:+0000
TZNAME:UTC
DTSTART:20230101T000000
END:STANDARD
END:VTIMEZONE
BEGIN:VEVENT
DTSTART;TZID=UTC:20241127T190000
DTEND;TZID=UTC:20241127T210000
DTSTAMP:20260421T101446
CREATED:20241222T175553Z
LAST-MODIFIED:20241222T175553Z
UID:646-1732734000-1732741200@ubiracional.org
SUMMARY:Intercambio de saberes por la transición ecosocial justa
DESCRIPTION:
URL:https://ubiracional.org/agenda/intercambio-de-saberes-por-la-transicion-ecosocial-justa/
LOCATION:SEU Ciudad de Alicante\, Avenida Ramón y Cajal 4\, Alicante
ATTACH;FMTTYPE=image/jpeg:https://ubiracional.org/wp-content/uploads/467328954_545465878241412_4461275350110476257_n.jpg
END:VEVENT
BEGIN:VEVENT
DTSTART;TZID=UTC:20241023T170000
DTEND;TZID=UTC:20241023T183000
DTSTAMP:20260421T101446
CREATED:20241222T174534Z
LAST-MODIFIED:20241222T174534Z
UID:636-1729702800-1729708200@ubiracional.org
SUMMARY:Taula redona de defensa del territori
DESCRIPTION:
URL:https://ubiracional.org/agenda/taula-redona-de-defensa-del-territori/
LOCATION:Plaça de l’Ajuntament de València\, València
ATTACH;FMTTYPE=image/jpeg:https://ubiracional.org/wp-content/uploads/464419626_841082687911949_1347478479885633240_n.jpg
END:VEVENT
BEGIN:VEVENT
DTSTART;TZID=UTC:20240924T173000
DTEND;TZID=UTC:20240924T193000
DTSTAMP:20260421T101446
CREATED:20240919T093505Z
LAST-MODIFIED:20240919T093506Z
UID:584-1727199000-1727206200@ubiracional.org
SUMMARY:Xarrada: Territoris que alimenten
DESCRIPTION:
URL:https://ubiracional.org/agenda/xarrada-territoris-que-alimenten/
LOCATION:La Repartidora\, Carrer Reverend Rafael Tramoyeres\, 8\, València
ATTACH;FMTTYPE=image/jpeg:https://ubiracional.org/wp-content/uploads/WhatsApp-Image-2024-09-19-at-11.01.33.jpeg
END:VEVENT
BEGIN:VEVENT
DTSTART;TZID=UTC:20240919T193000
DTEND;TZID=UTC:20240919T213000
DTSTAMP:20260421T101446
CREATED:20240919T092749Z
LAST-MODIFIED:20240919T092749Z
UID:578-1726774200-1726781400@ubiracional.org
SUMMARY:Xarrada informativa a Turís
DESCRIPTION:
URL:https://ubiracional.org/agenda/xarrada-informativa-a-turis/
LOCATION:Teatre Ideal\, Turís
ATTACH;FMTTYPE=image/jpeg:https://ubiracional.org/wp-content/uploads/WhatsApp-Image-2024-09-19-at-09.13.38.jpeg
ORGANIZER;CN="Plataforma per la defensa del territori de Tur%C3%ADs 'el Castellet' Cooperatives 'La turisana' i 'La Baron%C3%ADa'":MAILTO:plataformaelcastellet@gmail.com
END:VEVENT
BEGIN:VEVENT
DTSTART;TZID=UTC:20240514T160000
DTEND;TZID=UTC:20240514T180000
DTSTAMP:20260421T101446
CREATED:20240503T151110Z
LAST-MODIFIED:20240503T151110Z
UID:542-1715702400-1715709600@ubiracional.org
SUMMARY:Energía renovable sin destrucción del medio ambiente
DESCRIPTION:
URL:https://ubiracional.org/agenda/energia-renovable-sin-destruccion-del-medio-ambiente/
LOCATION:Aula 2.2. Edificio La Galia. Universidad Miguel Hernández. Elche\, Universidad Miguel Hernández\, Elche
ATTACH;FMTTYPE=image/jpeg:https://ubiracional.org/wp-content/uploads/photo5884223835857863558.jpg
END:VEVENT
BEGIN:VEVENT
DTSTART;TZID=UTC:20240513T080000
DTEND;TZID=UTC:20240513T170000
DTSTAMP:20260421T101446
CREATED:20240513T072503Z
LAST-MODIFIED:20240513T072847Z
UID:556-1715587200-1715619600@ubiracional.org
SUMMARY:Energies renovables: Implantació model i territori
DESCRIPTION:Xarrada informativa i col·loqui amb: \nLidia I. Montero: Plataforma pel Dret a Decidir. \nJoaquim Vidal Sanz: Coordinadora Valenciana per la Ubicació Racional de les Energies Renovables. \nDivendres 17 de maig de 2024 a 1es 18:45. Carreró de les Ànimes\, 1\, Ibi.
URL:https://ubiracional.org/agenda/energies-renovables-implantacio-model-i-territori/
LOCATION:Carreró de les Ànimes\, 1\, Ibi\, Carreró de les Ànimes\, Ibi
ATTACH;FMTTYPE=image/png:https://ubiracional.org/wp-content/uploads/Cartell-2.0.png
END:VEVENT
BEGIN:VEVENT
DTSTART;TZID=UTC:20240508T180000
DTEND;TZID=UTC:20240508T200000
DTSTAMP:20260421T101446
CREATED:20240503T150654Z
LAST-MODIFIED:20240503T150654Z
UID:538-1715191200-1715198400@ubiracional.org
SUMMARY:Villar\, Villa Energética: Taller y mesa redonda
DESCRIPTION:
URL:https://ubiracional.org/agenda/villar-villa-energetica-taller-y-mesa-redonda/
LOCATION:Espacio Joven (Sala Experimenta): Villar del Arzobispo
ATTACH;FMTTYPE=image/jpeg:https://ubiracional.org/wp-content/uploads/photo5884223835857863565.jpg
END:VEVENT
BEGIN:VEVENT
DTSTART;TZID=UTC:20240410T190000
DTEND;TZID=UTC:20240410T210000
DTSTAMP:20260421T101446
CREATED:20240403T132017Z
LAST-MODIFIED:20240403T132017Z
UID:527-1712775600-1712782800@ubiracional.org
SUMMARY:Com funciona el colonialisme energètic al País Valencià?
DESCRIPTION:Presentació del webdoc i suplement de La Directa a València. \nAmb la participació de: \nVicent Almela: La Directa\nOscar Arnau: Coordinadora Valenciana per la Ubicació Racional de les Energies Renovables\nCarmela Cerdá: Asociación Naturalista de Ayora y la Valle (ANAV)
URL:https://ubiracional.org/agenda/com-funciona-el-colonialisme-energetic-al-pais-valencia/
LOCATION:La Repartidora\, Carrer Reverend Rafael Tramoyeres\, 8\, València
ATTACH;FMTTYPE=image/jpeg:https://ubiracional.org/wp-content/uploads/Cartel-colonialismo-energetico.jpg
END:VEVENT
BEGIN:VEVENT
DTSTART;TZID=UTC:20240325T190000
DTEND;TZID=UTC:20240325T210000
DTSTAMP:20260421T101446
CREATED:20240321T143856Z
LAST-MODIFIED:20240321T143856Z
UID:513-1711393200-1711400400@ubiracional.org
SUMMARY:Tertúlia i presentació del suplement i webdoc de La Directa
DESCRIPTION:
URL:https://ubiracional.org/agenda/tertulia-i-presentacio-del-suplement-i-webdoc-de-la-directa/
ATTACH;FMTTYPE=image/png:https://ubiracional.org/wp-content/uploads/img-webdoc.png
END:VEVENT
BEGIN:VEVENT
DTSTART;TZID=UTC:20240323T173000
DTEND;TZID=UTC:20240323T230000
DTSTAMP:20260421T101446
CREATED:20240321T144231Z
LAST-MODIFIED:20240321T144250Z
UID:516-1711215000-1711234800@ubiracional.org
SUMMARY:Vilafafest
DESCRIPTION:Aquest dissabte acudim com a entitat al Vilafafest\, en Vilafamés\, Castelló.
URL:https://ubiracional.org/agenda/vilafafest/
LOCATION:Plaça de la tanca\, Vilafamés
ATTACH;FMTTYPE=image/jpeg:https://ubiracional.org/wp-content/uploads/vilafafest.jpg
END:VEVENT
BEGIN:VEVENT
DTSTART;TZID=UTC:20240225T120000
DTEND;TZID=UTC:20240225T160000
DTSTAMP:20260421T101446
CREATED:20240227T111301Z
LAST-MODIFIED:20240227T111301Z
UID:508-1708862400-1708876800@ubiracional.org
SUMMARY:Xerrada: Macropolígons d'energies renovables al territori rural: el cas de L'Alcoià
DESCRIPTION:
URL:https://ubiracional.org/agenda/xerrada-macropoligons-denergies-renovables-al-territori-rural-el-cas-de-lalcoia/
LOCATION:Auditori municipal de Tibi
ATTACH;FMTTYPE=image/jpeg:https://ubiracional.org/wp-content/uploads/Cartel-charla-Tibi.jpg
END:VEVENT
BEGIN:VEVENT
DTSTART;TZID=UTC:20240120T120000
DTEND;TZID=UTC:20240120T140000
DTSTAMP:20260421T101446
CREATED:20240111T120459Z
LAST-MODIFIED:20240111T120459Z
UID:468-1705752000-1705759200@ubiracional.org
SUMMARY:Manifestació Diumenge 20 De Gener\, València
DESCRIPTION:El 25 de juny és l’últim dia que tenen entre 80 i 100 projectes d’energies renovables\, tant autonòmics com estatals\, per a obtindre l’autorització administrativa de construcció favorable\, últim pas del sistema de fites que va instaurar el Ministeri per a la Transició Ecològica i el Repte Demogràfic. És a dir\, el dia 25 ens juguem en gran part com es durà a terme la transició energètica\, no sols a la Comunitat Valenciana\, sino a tot l’estat espanyol: venent els nostres terrenys a empreses multinacionals\, abandonant gran part del nostre sector primari i canviant la forma en com vivim al món rural; o realitzant una vertadera transició energètica que pase per la sobirania ciutadana\, elegint com i quan generem la nostra energia\, respectant els terrenys no urbanitzats i forestals. Per això\, el dia 20 de Gener a les 12h a València\, ens manifestarem\, per demanar una transició energètica planificada\, que no sacrifique el món rural.\n–\nEl 25 de junio es el último día que tienen entre 80 y 100 proyectos de energías renovables\, tanto autonómicos como estatales\, para obtener la autorización administrativa de construcción favorable\, último paso del sistema de hitos que instauró el Ministerio para la Transición Ecológica y el Reto Demográfico. Es decir\, el día 25 nos jugamos en gran parte cómo se llevará a cabo la transición energética\, no sólo en la Comunidad Valenciana\, sino en todo el estado español: vendiendo nuestros terrenos a empresas multinacionales\, abandonando gran parte de nuestro sector primario y cambiando la forma en cómo vivimos en el mundo rural; o realizando una verdadera transición energética que pase por la soberanía ciudadana\, eligiendo cómo y cuándo generamos nuestra energía\, respetando los terrenos no urbanizados y forestales. Por eso\, el día 20 de Enero a las 12h en Valencia\, nos manifestaremos\, para pedir una transición energética planificada\, que no sacrifique el mundo rural.
URL:https://ubiracional.org/agenda/manifestacio-diumenge-20-de-gener-valencia/
LOCATION:Plaça de la Mare de Déu\, València
ATTACH;FMTTYPE=image/jpeg:https://ubiracional.org/wp-content/uploads/Cartel-Ubiracional-Valencia-VALE.jpg
END:VEVENT
BEGIN:VEVENT
DTSTART;TZID=UTC:20231126T120000
DTEND;TZID=UTC:20231126T130000
DTSTAMP:20260421T101446
CREATED:20231120T164820Z
LAST-MODIFIED:20231124T105813Z
UID:458-1701000000-1701003600@ubiracional.org
SUMMARY:Manifestació Diumenge 26 De Novembre\, Alacant
DESCRIPTION:El diumenge 26 de novembre a les 12.00 farem una manifestació a Alacant\, eixint del Passeig Esplanada d’Espanya fins la Subdelegació del Govern. Vestides de groc i amb totes les ferramentes per a fer soroll que tingam a la nostra disposició\, anem a reclamar al MITECO que legisle també per a la població civil\, no sols per als lobbies\, que realitze una ordenació real de la instal·lació de les EERR\, prioritzant l’autoconsum\, les CELs i les zones ja greument afectades per l’acció humana.\n\nVos esperem a totes!
URL:https://ubiracional.org/agenda/manifestacio-diumenge-26-de-novembre-alacant/
LOCATION:Passeig Esplanada d’Espanya (junt a la gelateria Peret)\, Alacant
ATTACH;FMTTYPE=image/jpeg:https://ubiracional.org/wp-content/uploads/Imatge-de-WhatsApp-2023-11-16-a-les-21.21.22_a7a1f3d1.jpg
END:VEVENT
BEGIN:VEVENT
DTSTART;TZID=UTC:20231028T173000
DTEND;TZID=UTC:20231028T200000
DTSTAMP:20260421T101446
CREATED:20231020T155550Z
LAST-MODIFIED:20231020T155610Z
UID:444-1698514200-1698523200@ubiracional.org
SUMMARY:Fira de la diversitat cultivada
DESCRIPTION:Participem el pròxim 28 d’octubre a la 10ª fira de la diversitat cultivada. \nAmb la presencia del nostre company J. Rodrigo que parlará de agricultura tradicional front a les macrorenovables.
URL:https://ubiracional.org/agenda/fira-de-la-diversitat-cultivada/
ATTACH;FMTTYPE=image/jpeg:https://ubiracional.org/wp-content/uploads/WhatsApp-Image-2023-10-20-at-17.40.59.jpeg
END:VEVENT
BEGIN:VEVENT
DTSTART;TZID=UTC:20231021T160000
DTEND;TZID=UTC:20231021T180000
DTSTAMP:20260421T101446
CREATED:20231020T095824Z
LAST-MODIFIED:20231020T095907Z
UID:439-1697904000-1697911200@ubiracional.org
SUMMARY:Finances Ètiques en Clau Energètica
DESCRIPTION:El pròxim dissabte 21 participem a l’encontre «Finances ètiques en clau energètica»: Una trobada de joves sobre cooperativisme en finances ètiques i energies renovables   \n20-22 OCT 2023  \nEn l’alberg rural La Surera Pensió completa inclosa els 3 dies.  \nTotalment gratuït   \nInscripció:  \nhttps://forms.gle/p9LFXGa9XtiEy43×8
URL:https://ubiracional.org/agenda/finances-etiques-en-clau-energetica/
ATTACH;FMTTYPE=image/jpeg:https://ubiracional.org/wp-content/uploads/WhatsApp-Image-2023-10-19-at-18.09.05.jpeg
END:VEVENT
BEGIN:VEVENT
DTSTART;TZID=UTC:20230901T170000
DTEND;TZID=UTC:20230903T160000
DTSTAMP:20260421T101446
CREATED:20230830T123317Z
LAST-MODIFIED:20230830T123317Z
UID:416-1693587600-1693756800@ubiracional.org
SUMMARY:Encuentro Nuestra Lucha Es Por La Vida – La Nostra Lluita Es Per La Vida
DESCRIPTION:
URL:https://ubiracional.org/agenda/encuentro-nuestra-lucha-es-por-la-vida-la-nostra-lluita-es-per-la-vida/
LOCATION:Alberg el Teularet\, Navalón\, Navalón
ATTACH;FMTTYPE=image/jpeg:https://ubiracional.org/wp-content/uploads/LLUITA-PER-LA-VIDA-web.jpg
END:VEVENT
BEGIN:VEVENT
DTSTART;TZID=UTC:20230701T113000
DTEND;TZID=UTC:20230701T170000
DTSTAMP:20260421T101446
CREATED:20230622T073646Z
LAST-MODIFIED:20230622T073646Z
UID:412-1688211000-1688230800@ubiracional.org
SUMMARY:Manifestació a Castalla
DESCRIPTION:Eixida des de Av. Onil amb Carrer Cervantes (Castalla)
URL:https://ubiracional.org/agenda/manifestacio-a-castalla/
ATTACH;FMTTYPE=image/jpeg:https://ubiracional.org/wp-content/uploads/WhatsApp-Image-2023-06-21-at-16.01.17.jpeg
END:VEVENT
BEGIN:VEVENT
DTSTART;TZID=UTC:20230622T183000
DTEND;TZID=UTC:20230622T203000
DTSTAMP:20260421T101446
CREATED:20230619T143924Z
LAST-MODIFIED:20230619T143937Z
UID:408-1687458600-1687465800@ubiracional.org
SUMMARY:Acte sobre renovables\, per una transició energètica justa
DESCRIPTION:
URL:https://ubiracional.org/agenda/acte-dobre-renovables-per-una-transicio-energetica-justa/
LOCATION:Ca Revolta\, Calle Sta. Teresa 10\, València
ATTACH;FMTTYPE=image/jpeg:https://ubiracional.org/wp-content/uploads/CA-REVOLTA-CARTEL-2-copia-scaled.jpg
END:VEVENT
BEGIN:VEVENT
DTSTART;TZID=UTC:20230610T110000
DTEND;TZID=UTC:20230610T123000
DTSTAMP:20260421T101446
CREATED:20230605T073601Z
LAST-MODIFIED:20230605T073601Z
UID:396-1686394800-1686400200@ubiracional.org
SUMMARY:Xarrada a la Fira Alternativa
DESCRIPTION:Ubicació racional de les energies renovables: On i com?
URL:https://ubiracional.org/agenda/xarrada-a-la-fira-alternativa/
LOCATION:Carpa 1 de la fira alternativa
END:VEVENT
BEGIN:VEVENT
DTSTART;TZID=UTC:20230609T150000
DTEND;TZID=UTC:20230611T200000
DTSTAMP:20260421T101446
CREATED:20230605T071850Z
LAST-MODIFIED:20230605T071850Z
UID:392-1686322800-1686513600@ubiracional.org
SUMMARY:Fira alternativa de Valencia 2023
DESCRIPTION:Este año volvemos a estar presentes los días 9\, 10 y 11 de junio en el cauce del rio de Valencia. Te esperamos!
URL:https://ubiracional.org/agenda/fira-alternativa-de-valencia-2023/
LOCATION:Entre el Pont de les Flors i el Pont de la exposició\, Cauce del Turia\, València
ATTACH;FMTTYPE=image/png:https://ubiracional.org/wp-content/uploads/34aFIRALTERNATIVA-2.png
END:VEVENT
BEGIN:VEVENT
DTSTART;TZID=UTC:20230607T190000
DTEND;TZID=UTC:20230607T210000
DTSTAMP:20260421T101446
CREATED:20230531T164648Z
LAST-MODIFIED:20230531T164648Z
UID:388-1686164400-1686171600@ubiracional.org
SUMMARY:Acto sobre renovables: Per una transició energètico justa
DESCRIPTION:
URL:https://ubiracional.org/agenda/acto-sobre-renovables-per-una-transicio-energetico-justa/
LOCATION:Ca Revolta\, Calle Sta. Teresa 10\, València
ATTACH;FMTTYPE=image/jpeg:https://ubiracional.org/wp-content/uploads/07c84a58-ff80-4ac1-85e3-4822179dbd69.jpg
END:VEVENT
BEGIN:VEVENT
DTSTART;TZID=UTC:20230603T110000
DTEND;TZID=UTC:20230603T140000
DTSTAMP:20260421T101446
CREATED:20230531T163932Z
LAST-MODIFIED:20230531T163932Z
UID:384-1685790000-1685800800@ubiracional.org
SUMMARY:Alimentos y/o energía? Agrobiodiversidad y modelo energético justo
DESCRIPTION:
URL:https://ubiracional.org/agenda/alimentos-y-o-energia-agrobiodiversidad-y-modelo-energetico-justo/
LOCATION:Mezquita de Benaeça/Ermita Sta Cruz\, Chelva
ATTACH;FMTTYPE=image/jpeg:https://ubiracional.org/wp-content/uploads/WhatsApp-Image-2023-05-31-at-15.23.54.jpeg
END:VEVENT
BEGIN:VEVENT
DTSTART;TZID=UTC:20230520T110000
DTEND;TZID=UTC:20230520T110000
DTSTAMP:20260421T101446
CREATED:20230511T090240Z
LAST-MODIFIED:20230511T090240Z
UID:378-1684580400-1684580400@ubiracional.org
SUMMARY:Manifestació per un món rural viu!
DESCRIPTION:
URL:https://ubiracional.org/agenda/manifestacio-per-un-mon-rural-viu/
LOCATION:Plaça de la Independència\, Castelló\, Castelló
ATTACH;FMTTYPE=image/jpeg:https://ubiracional.org/wp-content/uploads/WhatsApp-Image-2023-05-11-at-09.29.57.jpeg
END:VEVENT
BEGIN:VEVENT
DTSTART;TZID=UTC:20230520T090000
DTEND;TZID=UTC:20230520T183000
DTSTAMP:20260421T101446
CREATED:20230511T085940Z
LAST-MODIFIED:20230518T180210Z
UID:376-1684573200-1684607400@ubiracional.org
SUMMARY:Caravana por un mundo rural vivo
DESCRIPTION:Partiremos desde Cofrentes\, pasamos por los pueblos de Jalance\, Jarafuel\, Teresa de Cofrentes\, Zarra y acabamos en Ayora\, con la concentración ya fuera de los coches\, lectura de manifiesto y pararemos a comer bocadillos que prepararán las compañeras de Ayora. Después\, ya sin caravana\, iremos a Almansa con nuestras pancartas\, desde las 16:30 hasta las 18:30\, denunciando nuestra situación.
URL:https://ubiracional.org/agenda/caravana-por-un-mundo-rural-vivo/
ATTACH;FMTTYPE=image/jpeg:https://ubiracional.org/wp-content/uploads/Cartel-Ayora.jpg
END:VEVENT
BEGIN:VEVENT
DTSTART;TZID=UTC:20230515T180000
DTEND;TZID=UTC:20230515T200000
DTSTAMP:20260421T101446
CREATED:20230511T085426Z
LAST-MODIFIED:20230511T085450Z
UID:373-1684173600-1684180800@ubiracional.org
SUMMARY:Mesa de diàleg amb partits politics: Quina transició energètica volem per al territori valencià?
DESCRIPTION:
URL:https://ubiracional.org/agenda/mesa-de-dialeg-amb-partits-politics-quina-transicio-energetica-volem-per-al-territori-valencia/
LOCATION:Centre Octubre\, Valencia\, València
ATTACH;FMTTYPE=image/jpeg:https://ubiracional.org/wp-content/uploads/save-the-date-b.jpg
END:VEVENT
BEGIN:VEVENT
DTSTART;TZID=UTC:20230506T110000
DTEND;TZID=UTC:20230506T120000
DTSTAMP:20260421T101446
CREATED:20230426T083446Z
LAST-MODIFIED:20230426T083501Z
UID:363-1683370800-1683374400@ubiracional.org
SUMMARY:Concentración en defensa del entorno de la Sierra Calderona
DESCRIPTION:En contra de la macro-fotovoltaica Segorbe
URL:https://ubiracional.org/agenda/concentracion-en-defensa-del-entorno-de-la-sierra-calderona/
LOCATION:Plaza Agua Limpia\, Segorbe\, Plaza Agua Limpia\, Segorbe
ATTACH;FMTTYPE=image/jpeg:https://ubiracional.org/wp-content/uploads/1e4902d8-b632-49d3-9329-0c1b93b1df95.jpg
END:VEVENT
BEGIN:VEVENT
DTSTART;TZID=UTC:20230430T180000
DTEND;TZID=UTC:20230430T210000
DTSTAMP:20260421T101446
CREATED:20230426T084108Z
LAST-MODIFIED:20230426T084108Z
UID:367-1682877600-1682888400@ubiracional.org
SUMMARY:El futur és avui
DESCRIPTION:Projecció del documental «El preu del sòl» + Xerrada «Energies renovables: l’experiència del projecte Magda»
URL:https://ubiracional.org/agenda/el-futur-es-avui/
LOCATION:Casa de Cultura\, La Salzadella\, C. San Vicente\, 7\, La Salzadella\, Castelló
ATTACH;FMTTYPE=image/jpeg:https://ubiracional.org/wp-content/uploads/d749f672-eb9c-443e-b852-36f2e9714ee7.jpg
END:VEVENT
BEGIN:VEVENT
DTSTART;TZID=UTC:20230426T183000
DTEND;TZID=UTC:20230426T203000
DTSTAMP:20260421T101446
CREATED:20230411T144933Z
LAST-MODIFIED:20230411T144933Z
UID:349-1682533800-1682541000@ubiracional.org
SUMMARY:Mesa redonda. Hacia una transición energética inclusiva que respete el territorio
DESCRIPTION:
URL:https://ubiracional.org/agenda/mesa-redonda-hacia-una-transicion-energetica-inclusiva-que-respete-el-territorio/
LOCATION:Centre Octubre\, Valencia\, València
ATTACH;FMTTYPE=image/jpeg:https://ubiracional.org/wp-content/uploads/MESA-REDONDA-TRANSICION-ENERGETICA.jpg
END:VEVENT
BEGIN:VEVENT
DTSTART;TZID=UTC:20230422T190000
DTEND;TZID=UTC:20230422T210000
DTSTAMP:20260421T101446
CREATED:20230421T113707Z
LAST-MODIFIED:20230421T113723Z
UID:359-1682190000-1682197200@ubiracional.org
SUMMARY:Transición energética y equilibrio territorial
DESCRIPTION:
URL:https://ubiracional.org/agenda/transicion-energetica-y-equilibrio-territorial/
LOCATION:Auditorio de Salinas\, Auditorio de Salinas\, Salinas\, Alicante
ATTACH;FMTTYPE=image/jpeg:https://ubiracional.org/wp-content/uploads/WhatsApp-Image-2023-04-20-at-09.11.48.jpeg
END:VEVENT
BEGIN:VEVENT
DTSTART;TZID=UTC:20230421T190000
DTEND;TZID=UTC:20230421T210000
DTSTAMP:20260421T101446
CREATED:20230421T113302Z
LAST-MODIFIED:20230421T113302Z
UID:353-1682103600-1682110800@ubiracional.org
SUMMARY:Estreno "El preu del Sòl" en Requena
DESCRIPTION:
URL:https://ubiracional.org/agenda/estreno-el-preu-del-sol-en-requena/
LOCATION:Requena
ATTACH;FMTTYPE=image/jpeg:https://ubiracional.org/wp-content/uploads/WhatsApp-Image-2023-04-06-at-19.17.21.jpeg
END:VEVENT
END:VCALENDAR