BEGIN:VCALENDAR
VERSION:2.0
PRODID:-//Ubicació racional de les energies renovables - ECPv6.10.1.1//NONSGML v1.0//EN
CALSCALE:GREGORIAN
METHOD:PUBLISH
X-ORIGINAL-URL:https://ubiracional.org
X-WR-CALDESC:Eventos para Ubicació racional de les energies renovables
REFRESH-INTERVAL;VALUE=DURATION:PT1H
X-Robots-Tag:noindex
X-PUBLISHED-TTL:PT1H
BEGIN:VTIMEZONE
TZID:UTC
BEGIN:STANDARD
TZOFFSETFROM:+0000
TZOFFSETTO:+0000
TZNAME:UTC
DTSTART:20230101T000000
END:STANDARD
END:VTIMEZONE
BEGIN:VEVENT
DTSTART;TZID=UTC:20230302T190000
DTEND;TZID=UTC:20230302T210000
DTSTAMP:20260421T151637
CREATED:20230228T093609Z
LAST-MODIFIED:20230228T093843Z
UID:312-1677783600-1677790800@ubiracional.org
SUMMARY:Estreno de "El preu del Sòl"
DESCRIPTION:
URL:https://ubiracional.org/agenda/estreno-de-el-preu-del-sol/
LOCATION:CIM de Benimaclet\, Carrer Baró de San Petrillo 14\, València\, Espanya
END:VEVENT
END:VCALENDAR